Package: omXplore Version: 1.4.2 Command: /home/biocbuild/R/R/bin/R CMD build --keep-empty-dirs --no-resave-data omXplore StartedAt: 2025-11-21 04:32:03 -0000 (Fri, 21 Nov 2025) EndedAt: 2025-11-21 04:33:24 -0000 (Fri, 21 Nov 2025) EllapsedTime: 81.0 seconds RetCode: 0 Status: OK PackageFile: omXplore_1.4.2.tar.gz PackageFileSize: 2.141 MiB