Package: omXplore Version: 1.4.0 Command: /Library/Frameworks/R.framework/Resources/bin/R CMD build --keep-empty-dirs --no-resave-data omXplore StartedAt: 2025-10-31 17:18:40 -0400 (Fri, 31 Oct 2025) EndedAt: 2025-10-31 17:19:06 -0400 (Fri, 31 Oct 2025) EllapsedTime: 26.3 seconds RetCode: 0 Status: OK PackageFile: omXplore_1.4.0.tar.gz PackageFileSize: 2.013 MiB