Package: oligoClasses Version: 1.71.0 Command: F:\biocbuild\bbs-3.22-bioc\R\bin\R.exe CMD INSTALL oligoClasses StartedAt: 2025-08-14 16:01:29 -0400 (Thu, 14 Aug 2025) EndedAt: 2025-08-14 16:03:42 -0400 (Thu, 14 Aug 2025) EllapsedTime: 133.1 seconds RetCode: 0 Status: OK