Package: occugene Version: 1.68.0 Command: /home/biocbuild/bbs-3.21-bioc/R/bin/R CMD build --keep-empty-dirs --no-resave-data occugene StartedAt: 2025-10-15 18:54:39 -0400 (Wed, 15 Oct 2025) EndedAt: 2025-10-15 18:54:44 -0400 (Wed, 15 Oct 2025) EllapsedTime: 5.0 seconds RetCode: 0 Status: OK PackageFile: occugene_1.68.0.tar.gz PackageFileSize: 194.8 KiB