Package: occugene Version: 1.68.0 Command: /Library/Frameworks/R.framework/Resources/bin/R CMD INSTALL occugene StartedAt: 2025-10-13 15:05:37 -0400 (Mon, 13 Oct 2025) EndedAt: 2025-10-13 15:05:49 -0400 (Mon, 13 Oct 2025) EllapsedTime: 11.6 seconds RetCode: 0 Status: OK