Package: nullranges Version: 1.14.0 Command: /home/biocbuild/bbs-3.21-bioc/R/bin/R CMD check --install=check:nullranges.install-out.txt --library=/home/biocbuild/bbs-3.21-bioc/R/site-library --timings nullranges_1.14.0.tar.gz StartedAt: 2025-10-16 01:45:33 -0400 (Thu, 16 Oct 2025) EndedAt: 2025-10-16 01:53:27 -0400 (Thu, 16 Oct 2025) EllapsedTime: 474.7 seconds RetCode: 0 Status: OK CheckDir: nullranges.Rcheck Warnings: 0