Package: nullranges Version: 1.14.0 Command: /Library/Frameworks/R.framework/Resources/bin/R CMD check --install=check:nullranges.install-out.txt --library=/Library/Frameworks/R.framework/Resources/library --no-vignettes --timings nullranges_1.14.0.tar.gz StartedAt: 2025-10-14 07:34:48 -0400 (Tue, 14 Oct 2025) EndedAt: 2025-10-14 07:44:13 -0400 (Tue, 14 Oct 2025) EllapsedTime: 564.4 seconds RetCode: 0 Status: OK CheckDir: nullranges.Rcheck Warnings: 0