Package: nucleoSim Version: 1.38.0 Command: /home/biocbuild/R/R/bin/R CMD build --keep-empty-dirs --no-resave-data nucleoSim StartedAt: 2025-11-21 04:28:09 -0000 (Fri, 21 Nov 2025) EndedAt: 2025-11-21 04:28:26 -0000 (Fri, 21 Nov 2025) EllapsedTime: 17.0 seconds RetCode: 0 Status: OK PackageFile: nucleoSim_1.38.0.tar.gz PackageFileSize: 380.4 KiB