Package: nucleoSim Version: 1.37.0 Command: rm -rf nucleoSim.buildbin-libdir && mkdir nucleoSim.buildbin-libdir && F:\biocbuild\bbs-3.22-bioc\R\bin\R.exe CMD INSTALL --build --library=nucleoSim.buildbin-libdir nucleoSim_1.37.0.tar.gz StartedAt: 2025-08-15 10:51:42 -0400 (Fri, 15 Aug 2025) EndedAt: 2025-08-15 10:52:01 -0400 (Fri, 15 Aug 2025) EllapsedTime: 18.7 seconds RetCode: 0 Status: OK PackageFile: nucleoSim_1.37.0.zip PackageFileSize: 339.6 KiB