Package: nuCpos Version: 1.26.0 Command: /home/biocbuild/bbs-3.21-bioc/R/bin/R CMD check --install=check:nuCpos.install-out.txt --library=/home/biocbuild/bbs-3.21-bioc/R/site-library --timings nuCpos_1.26.0.tar.gz StartedAt: 2025-10-16 01:45:19 -0400 (Thu, 16 Oct 2025) EndedAt: 2025-10-16 01:45:53 -0400 (Thu, 16 Oct 2025) EllapsedTime: 34.0 seconds RetCode: 0 Status: OK CheckDir: nuCpos.Rcheck Warnings: 0