Package: notame Version: 0.99.8 Command: /home/biocbuild/R/R/bin/R CMD INSTALL notame StartedAt: 2025-10-23 20:44:08 -0000 (Thu, 23 Oct 2025) EndedAt: 2025-10-23 20:44:42 -0000 (Thu, 23 Oct 2025) EllapsedTime: 34.1 seconds RetCode: 0 Status: OK