Package: notame Version: 0.99.7 Command: /home/biocbuild/R/R/bin/R CMD build --keep-empty-dirs --no-resave-data notame StartedAt: 2025-10-21 01:45:22 -0000 (Tue, 21 Oct 2025) EndedAt: 2025-10-21 01:50:02 -0000 (Tue, 21 Oct 2025) EllapsedTime: 280.1 seconds RetCode: 0 Status: OK PackageFile: notame_0.99.7.tar.gz PackageFileSize: 914.5 KiB