Package: notame Version: 1.0.0 Command: /Library/Frameworks/R.framework/Resources/bin/R CMD build --keep-empty-dirs --no-resave-data notame StartedAt: 2025-11-10 17:14:10 -0500 (Mon, 10 Nov 2025) EndedAt: 2025-11-10 17:15:22 -0500 (Mon, 10 Nov 2025) EllapsedTime: 71.9 seconds RetCode: 0 Status: OK PackageFile: notame_1.0.0.tar.gz PackageFileSize: 867.1 KiB