Package: notame Version: 1.0.0 Maintainer: Vilhelm Suksi MaintainerEmail: vksuks at utu.fi git_url: https://git.bioconductor.org/packages/notame git_branch: RELEASE_3_22 git_last_commit: e9edc04 git_last_commit_date: 2025-10-29 11:38:23 -0500 (Wed, 29 Oct 2025)