Package: normr Version: 1.34.0 Command: chmod a+r normr -R && E:\biocbuild\bbs-3.21-bioc\R\bin\R.exe CMD build --keep-empty-dirs --no-resave-data normr StartedAt: 2025-08-14 20:54:07 -0400 (Thu, 14 Aug 2025) EndedAt: 2025-08-14 20:56:03 -0400 (Thu, 14 Aug 2025) EllapsedTime: 116.0 seconds RetCode: 0 Status: OK PackageFile: normr_1.34.0.tar.gz PackageFileSize: 2.935 MiB