Package: normr Version: 1.34.0 Command: rm -rf normr.buildbin-libdir && mkdir normr.buildbin-libdir && E:\biocbuild\bbs-3.21-bioc\R\bin\R.exe CMD INSTALL --build --library=normr.buildbin-libdir normr_1.34.0.tar.gz StartedAt: 2025-08-15 09:51:17 -0400 (Fri, 15 Aug 2025) EndedAt: 2025-08-15 09:52:19 -0400 (Fri, 15 Aug 2025) EllapsedTime: 62.3 seconds RetCode: 0 Status: OK PackageFile: normr_1.34.0.zip PackageFileSize: 3.752 MiB