Package: nondetects Version: 2.40.0 Command: /home/biocbuild/R/R/bin/R CMD check --install=check:nondetects.install-out.txt --library=/home/biocbuild/R/R/site-library --no-vignettes --timings nondetects_2.40.0.tar.gz StartedAt: 2025-11-14 12:19:22 -0000 (Fri, 14 Nov 2025) EndedAt: 2025-11-14 12:29:50 -0000 (Fri, 14 Nov 2025) EllapsedTime: 628.0 seconds RetCode: 0 Status: OK CheckDir: nondetects.Rcheck Warnings: 0