Package: nondetects Version: 2.40.0 Command: /home/biocbuild/R/R/bin/R CMD build --keep-empty-dirs --no-resave-data nondetects StartedAt: 2025-11-14 03:49:04 -0000 (Fri, 14 Nov 2025) EndedAt: 2025-11-14 03:53:02 -0000 (Fri, 14 Nov 2025) EllapsedTime: 238.1 seconds RetCode: 0 Status: OK PackageFile: nondetects_2.40.0.tar.gz PackageFileSize: 118 KiB