Package: nondetects Version: 2.40.0 Command: /home/biocbuild/bbs-3.22-bioc/R/bin/R CMD INSTALL nondetects StartedAt: 2025-11-14 16:03:42 -0500 (Fri, 14 Nov 2025) EndedAt: 2025-11-14 16:03:50 -0500 (Fri, 14 Nov 2025) EllapsedTime: 8.2 seconds RetCode: 0 Status: OK