Package: nondetects Version: 2.40.0 Command: /home/biocbuild/bbs-3.22-bioc/R/bin/R CMD check --install=check:nondetects.install-out.txt --library=/home/biocbuild/bbs-3.22-bioc/R/site-library --timings nondetects_2.40.0.tar.gz StartedAt: 2025-11-15 02:27:05 -0500 (Sat, 15 Nov 2025) EndedAt: 2025-11-15 02:33:22 -0500 (Sat, 15 Nov 2025) EllapsedTime: 377.3 seconds RetCode: 0 Status: OK CheckDir: nondetects.Rcheck Warnings: 0