Package: nondetects Version: 2.40.0 Command: /home/biocbuild/bbs-3.22-bioc/R/bin/R CMD build --keep-empty-dirs --no-resave-data --md5 nondetects StartedAt: 2025-11-14 19:06:58 -0500 (Fri, 14 Nov 2025) EndedAt: 2025-11-14 19:09:29 -0500 (Fri, 14 Nov 2025) EllapsedTime: 151.2 seconds RetCode: 0 Status: OK PackageFile: nondetects_2.40.0.tar.gz PackageFileSize: 131.3 KiB