Package: nondetects Version: 2.38.1 Command: /Library/Frameworks/R.framework/Resources/bin/R CMD check --install=check:nondetects.install-out.txt --library=/Library/Frameworks/R.framework/Resources/library --no-vignettes --timings nondetects_2.38.1.tar.gz StartedAt: 2025-09-30 07:18:39 -0400 (Tue, 30 Sep 2025) EndedAt: 2025-09-30 07:35:12 -0400 (Tue, 30 Sep 2025) EllapsedTime: 993.7 seconds RetCode: 0 Status: OK CheckDir: nondetects.Rcheck Warnings: 0