Package: nondetects Version: 2.38.1 Command: rm -rf nondetects.buildbin-libdir && mkdir nondetects.buildbin-libdir && /Users/biocbuild/BBS/utils/build-universal.sh nondetects_2.38.1.tar.gz /Library/Frameworks/R.framework/Resources/bin/R nondetects.buildbin-libdir StartedAt: 2025-09-30 13:59:14 -0400 (Tue, 30 Sep 2025) EndedAt: 2025-09-30 14:00:02 -0400 (Tue, 30 Sep 2025) EllapsedTime: 47.3 seconds RetCode: 0 Status: OK PackageFile: nondetects_2.38.1.tgz PackageFileSize: 169.8 KiB