############################################################################## ############################################################################## ### ### Running command: ### ### /Library/Frameworks/R.framework/Resources/bin/R CMD build --keep-empty-dirs --no-resave-data nondetects ### ############################################################################## ############################################################################## * checking for file ‘nondetects/DESCRIPTION’ ... OK * preparing ‘nondetects’: * checking DESCRIPTION meta-information ... OK * installing the package to build vignettes ----------------------------------- * installing *source* package ‘nondetects’ ... ** this is package ‘nondetects’ version ‘2.38.0’ ** using staged installation ** R ** data ERROR: invalid value of LazyData field in DESCRIPTION * removing ‘/private/var/folders/r0/l4fjk6cj5xj0j3brt4bplpl40000gt/T/RtmpAUtPp7/Rinst906a73667125/nondetects’ ----------------------------------- ERROR: package installation failed