Package: nondetects Version: 2.38.1 Command: /Library/Frameworks/R.framework/Resources/bin/R CMD build --keep-empty-dirs --no-resave-data nondetects StartedAt: 2025-09-30 05:45:19 -0400 (Tue, 30 Sep 2025) EndedAt: 2025-09-30 05:47:34 -0400 (Tue, 30 Sep 2025) EllapsedTime: 134.7 seconds RetCode: 0 Status: OK PackageFile: nondetects_2.38.1.tar.gz PackageFileSize: 137.1 KiB