Package: nondetects Version: 2.38.1 Command: rm -rf nondetects.buildbin-libdir && mkdir nondetects.buildbin-libdir && /Users/biocbuild/BBS/utils/build-universal.sh nondetects_2.38.1.tar.gz /Library/Frameworks/R.framework/Resources/bin/R nondetects.buildbin-libdir StartedAt: 2025-10-01 19:36:10 -0400 (Wed, 01 Oct 2025) EndedAt: 2025-10-01 19:36:22 -0400 (Wed, 01 Oct 2025) EllapsedTime: 12.2 seconds RetCode: 0 Status: OK PackageFile: nondetects_2.38.1.tgz PackageFileSize: 169.6 KiB