Package: nnSVG Version: 1.14.0 Command: /home/biocbuild/bbs-3.22-bioc/R/bin/R CMD INSTALL nnSVG StartedAt: 2025-10-31 15:31:35 -0400 (Fri, 31 Oct 2025) EndedAt: 2025-10-31 15:32:00 -0400 (Fri, 31 Oct 2025) EllapsedTime: 25.2 seconds RetCode: 0 Status: OK