Package: nnSVG Version: 1.12.0 Command: /Library/Frameworks/R.framework/Resources/bin/R CMD INSTALL nnSVG StartedAt: 2025-10-09 15:38:51 -0400 (Thu, 09 Oct 2025) EndedAt: 2025-10-09 15:39:42 -0400 (Thu, 09 Oct 2025) EllapsedTime: 51.3 seconds RetCode: 0 Status: OK