Package: nnNorm Version: 2.74.0 Command: /home/biocbuild/R/R/bin/R CMD INSTALL nnNorm StartedAt: 2025-11-13 21:05:06 -0000 (Thu, 13 Nov 2025) EndedAt: 2025-11-13 21:05:34 -0000 (Thu, 13 Nov 2025) EllapsedTime: 28.4 seconds RetCode: 0 Status: OK