Package: nnNorm Version: 2.72.0 Command: /Library/Frameworks/R.framework/Resources/bin/R CMD check --install=check:nnNorm.install-out.txt --library=/Library/Frameworks/R.framework/Resources/library --no-vignettes --timings nnNorm_2.72.0.tar.gz StartedAt: 2025-10-14 07:30:10 -0400 (Tue, 14 Oct 2025) EndedAt: 2025-10-14 07:32:46 -0400 (Tue, 14 Oct 2025) EllapsedTime: 156.0 seconds RetCode: 0 Status: OK CheckDir: nnNorm.Rcheck Warnings: 0