Package: nnNorm Version: 2.72.0 Command: /Library/Frameworks/R.framework/Resources/bin/R CMD INSTALL nnNorm StartedAt: 2025-04-21 15:04:41 -0400 (Mon, 21 Apr 2025) EndedAt: 2025-04-21 15:05:10 -0400 (Mon, 21 Apr 2025) EllapsedTime: 29.0 seconds RetCode: 0 Status: OK