Package: nnNorm Version: 2.72.0 Command: /Library/Frameworks/R.framework/Resources/bin/R CMD build --keep-empty-dirs --no-resave-data nnNorm StartedAt: 2025-04-21 17:44:39 -0400 (Mon, 21 Apr 2025) EndedAt: 2025-04-21 17:45:15 -0400 (Mon, 21 Apr 2025) EllapsedTime: 36.6 seconds RetCode: 0 Status: OK PackageFile: nnNorm_2.72.0.tar.gz PackageFileSize: 1.589 MiB