Package: ngsReports Version: 2.10.0 Command: /Library/Frameworks/R.framework/Resources/bin/R CMD build --keep-empty-dirs --no-resave-data ngsReports StartedAt: 2025-04-21 17:08:35 -0400 (Mon, 21 Apr 2025) EndedAt: 2025-04-21 17:09:02 -0400 (Mon, 21 Apr 2025) EllapsedTime: 27.3 seconds RetCode: 0 Status: OK PackageFile: ngsReports_2.10.0.tar.gz PackageFileSize: 3.191 MiB