Package: netresponse Version: 1.68.0 Command: /Library/Frameworks/R.framework/Resources/bin/R CMD check --install=check:netresponse.install-out.txt --library=/Library/Frameworks/R.framework/Resources/library --no-vignettes --timings netresponse_1.68.0.tar.gz StartedAt: 2025-10-14 07:28:24 -0400 (Tue, 14 Oct 2025) EndedAt: 2025-10-14 07:31:24 -0400 (Tue, 14 Oct 2025) EllapsedTime: 180.1 seconds RetCode: 0 Status: OK CheckDir: netresponse.Rcheck Warnings: 0