Package: netboost Version: 2.18.0 Command: /Library/Frameworks/R.framework/Resources/bin/R CMD INSTALL netboost StartedAt: 2025-11-03 15:44:26 -0500 (Mon, 03 Nov 2025) EndedAt: 2025-11-03 15:45:44 -0500 (Mon, 03 Nov 2025) EllapsedTime: 77.8 seconds RetCode: 0 Status: OK