Package: netboost Version: 2.18.0 Command: /Library/Frameworks/R.framework/Resources/bin/R CMD build --keep-empty-dirs --no-resave-data netboost StartedAt: 2025-11-09 17:12:44 -0500 (Sun, 09 Nov 2025) EndedAt: 2025-11-09 17:13:08 -0500 (Sun, 09 Nov 2025) EllapsedTime: 24.3 seconds RetCode: 0 Status: OK PackageFile: netboost_2.18.0.tar.gz PackageFileSize: 1.133 MiB