Package: netboost Version: 2.18.0 Command: rm -rf netboost.buildbin-libdir && mkdir netboost.buildbin-libdir && /Users/biocbuild/BBS/utils/build-universal.sh netboost_2.18.0.tar.gz /Library/Frameworks/R.framework/Resources/bin/R netboost.buildbin-libdir StartedAt: 2025-11-06 23:14:29 -0500 (Thu, 06 Nov 2025) EndedAt: 2025-11-06 23:14:49 -0500 (Thu, 06 Nov 2025) EllapsedTime: 20.4 seconds RetCode: 0 Status: OK PackageFile: netboost_2.18.0.tgz PackageFileSize: 1.116 MiB