Package: netSmooth Version: 1.29.0 Command: /home/biocbuild/R/R/bin/R CMD check --install=check:netSmooth.install-out.txt --library=/home/biocbuild/R/R/site-library --no-vignettes --timings netSmooth_1.29.0.tar.gz StartedAt: 2025-10-17 11:41:54 -0000 (Fri, 17 Oct 2025) EndedAt: 2025-10-17 11:49:38 -0000 (Fri, 17 Oct 2025) EllapsedTime: 464.6 seconds RetCode: 0 Status: OK CheckDir: netSmooth.Rcheck Warnings: 0