Package: netSmooth Version: 1.30.0 Command: /home/biocbuild/bbs-3.22-bioc/R/bin/R CMD check --install=check:netSmooth.install-out.txt --library=/home/biocbuild/bbs-3.22-bioc/R/site-library --timings netSmooth_1.30.0.tar.gz StartedAt: 2025-11-10 02:20:15 -0500 (Mon, 10 Nov 2025) EndedAt: 2025-11-10 02:27:40 -0500 (Mon, 10 Nov 2025) EllapsedTime: 445.4 seconds RetCode: 0 Status: OK CheckDir: netSmooth.Rcheck Warnings: 0