Package: nearBynding Version: 1.18.0 Command: E:\biocbuild\bbs-3.21-bioc\R\bin\R.exe CMD check --no-multiarch --install=check:nearBynding.install-out.txt --library=E:\biocbuild\bbs-3.21-bioc\R\library --no-vignettes --timings nearBynding_1.18.0.tar.gz StartedAt: 2025-08-15 04:50:55 -0400 (Fri, 15 Aug 2025) EndedAt: 2025-08-15 04:57:30 -0400 (Fri, 15 Aug 2025) EllapsedTime: 395.1 seconds RetCode: 0 Status: OK CheckDir: nearBynding.Rcheck Warnings: 0