Package: nearBynding Version: 1.18.0 Command: rm -rf nearBynding.buildbin-libdir && mkdir nearBynding.buildbin-libdir && E:\biocbuild\bbs-3.21-bioc\R\bin\R.exe CMD INSTALL --build --library=nearBynding.buildbin-libdir nearBynding_1.18.0.tar.gz StartedAt: 2025-08-15 09:50:15 -0400 (Fri, 15 Aug 2025) EndedAt: 2025-08-15 09:51:15 -0400 (Fri, 15 Aug 2025) EllapsedTime: 59.8 seconds RetCode: 0 Status: OK PackageFile: nearBynding_1.18.0.zip PackageFileSize: 3.178 MiB