Package: nearBynding Version: 1.18.0 Command: /Library/Frameworks/R.framework/Resources/bin/R CMD INSTALL nearBynding StartedAt: 2025-10-13 16:47:51 -0400 (Mon, 13 Oct 2025) EndedAt: 2025-10-13 16:49:14 -0400 (Mon, 13 Oct 2025) EllapsedTime: 82.5 seconds RetCode: 0 Status: OK