Package: nearBynding Version: 1.18.0 Command: /Library/Frameworks/R.framework/Resources/bin/R CMD build --keep-empty-dirs --no-resave-data nearBynding StartedAt: 2025-10-13 21:04:53 -0400 (Mon, 13 Oct 2025) EndedAt: 2025-10-13 21:07:45 -0400 (Mon, 13 Oct 2025) EllapsedTime: 172.2 seconds RetCode: 0 Status: OK PackageFile: nearBynding_1.18.0.tar.gz PackageFileSize: 3.342 MiB