Package: nearBynding Version: 1.18.0 Command: rm -rf nearBynding.buildbin-libdir && mkdir nearBynding.buildbin-libdir && /Users/biocbuild/BBS/utils/build-universal.sh nearBynding_1.18.0.tar.gz /Library/Frameworks/R.framework/Resources/bin/R nearBynding.buildbin-libdir StartedAt: 2025-10-14 14:15:06 -0400 (Tue, 14 Oct 2025) EndedAt: 2025-10-14 14:16:59 -0400 (Tue, 14 Oct 2025) EllapsedTime: 112.8 seconds RetCode: 0 Status: OK PackageFile: nearBynding_1.18.0.tgz PackageFileSize: 3.213 MiB