Package: nearBynding Version: 1.20.0 Command: /Library/Frameworks/R.framework/Resources/bin/R CMD check --install=check:nearBynding.install-out.txt --library=/Library/Frameworks/R.framework/Resources/library --no-vignettes --timings nearBynding_1.20.0.tar.gz StartedAt: 2025-11-09 21:06:10 -0500 (Sun, 09 Nov 2025) EndedAt: 2025-11-09 21:08:04 -0500 (Sun, 09 Nov 2025) EllapsedTime: 114.5 seconds RetCode: 0 Status: OK CheckDir: nearBynding.Rcheck Warnings: 0