Package: nearBynding Version: 1.18.0 Command: /Library/Frameworks/R.framework/Resources/bin/R CMD check --install=check:nearBynding.install-out.txt --library=/Library/Frameworks/R.framework/Resources/library --no-vignettes --timings nearBynding_1.18.0.tar.gz StartedAt: 2025-10-15 05:49:44 -0400 (Wed, 15 Oct 2025) EndedAt: 2025-10-15 05:55:28 -0400 (Wed, 15 Oct 2025) EllapsedTime: 344.7 seconds RetCode: 0 Status: OK CheckDir: nearBynding.Rcheck Warnings: 0