Package: nearBynding Version: 1.18.0 Maintainer: Veronica Busa MaintainerEmail: vbusa1 at jhmi.edu git_url: https://git.bioconductor.org/packages/nearBynding git_branch: RELEASE_3_21 git_last_commit: 98fc873 git_last_commit_date: 2025-04-15 12:08:53 -0400 (Tue, 15 Apr 2025)