Package: ncGTW Version: 1.24.0 Command: /home/biocbuild/bbs-3.22-bioc/R/bin/R CMD INSTALL ncGTW StartedAt: 2025-11-09 15:42:17 -0500 (Sun, 09 Nov 2025) EndedAt: 2025-11-09 15:43:27 -0500 (Sun, 09 Nov 2025) EllapsedTime: 70.0 seconds RetCode: 0 Status: OK