Package: ncGTW Version: 1.24.0 Command: /home/biocbuild/bbs-3.22-bioc/R/bin/R CMD check --install=check:ncGTW.install-out.txt --library=/home/biocbuild/bbs-3.22-bioc/R/site-library --timings ncGTW_1.24.0.tar.gz StartedAt: 2025-11-10 02:16:45 -0500 (Mon, 10 Nov 2025) EndedAt: 2025-11-10 02:27:34 -0500 (Mon, 10 Nov 2025) EllapsedTime: 648.6 seconds RetCode: 0 Status: OK CheckDir: ncGTW.Rcheck Warnings: 0