Package: ncGTW Version: 1.24.0 Command: /home/biocbuild/bbs-3.22-bioc/R/bin/R CMD build --keep-empty-dirs --no-resave-data --md5 ncGTW StartedAt: 2025-11-09 19:05:39 -0500 (Sun, 09 Nov 2025) EndedAt: 2025-11-09 19:08:48 -0500 (Sun, 09 Nov 2025) EllapsedTime: 189.2 seconds RetCode: 0 Status: OK PackageFile: ncGTW_1.24.0.tar.gz PackageFileSize: 2.24 MiB